BEGIN:VCALENDAR
VERSION:2.0
PRODID:-//Silantes - ECPv6.15.19//NONSGML v1.0//EN
CALSCALE:GREGORIAN
METHOD:PUBLISH
X-WR-CALNAME:Silantes
X-ORIGINAL-URL:https://silantes.com
X-WR-CALDESC:Events for Silantes
REFRESH-INTERVAL;VALUE=DURATION:PT1H
X-Robots-Tag:noindex
X-PUBLISHED-TTL:PT1H
BEGIN:VTIMEZONE
TZID:Asia/Seoul
BEGIN:STANDARD
TZOFFSETFROM:+0900
TZOFFSETTO:+0900
TZNAME:KST
DTSTART:20220101T000000
END:STANDARD
END:VTIMEZONE
BEGIN:VEVENT
DTSTART;TZID=Asia/Seoul:20230820T000000
DTEND;TZID=Asia/Seoul:20230823T235959
DTSTAMP:20260423T113341
CREATED:20230705T155327Z
LAST-MODIFIED:20250708T104557Z
UID:3143-1692489600-1692835199@silantes.com
SUMMARY:AOMSC-KSMS 2023 | Annual Meeting of the Korean Society for Mass Spectrometry
DESCRIPTION:Asia-Oceania Mass Spectrometry Conference | Annual Meeting of the Korean Society for Mass Spectrometry\nAugust 20~23\, 2023 | Jeju Island\, Korea \nAOMSC-KSMS 2023 will provide a platform to network with new friends and colleagues\, exchange ideas\, discover novel opportunities\, and widen and deepen professional knowledge. \nSilantes will be represented at this conference by SARAM\, our distributor. You’ll find them at booth number 13.
URL:https://silantes.com/event/aomsc-ksms-2023-annual-meeting-of-the-korean-society-for-mass-spectrometry/
LOCATION:Jeju International Convention Center (ICC)\, 224 Jungmungwangwang-ro\, Seogwipo-si\, Jeju-do\, Korea\, Republic of
CATEGORIES:International Events
END:VEVENT
BEGIN:VEVENT
DTSTART;TZID=Asia/Seoul:20230828T000000
DTEND;TZID=Asia/Seoul:20230829T235959
DTSTAMP:20260423T113341
CREATED:20230711T155055Z
LAST-MODIFIED:20230711T155055Z
UID:3153-1693180800-1693353599@silantes.com
SUMMARY:4th KGU (Annual Korea Earth Science Association Academic Conference)
DESCRIPTION:August 28 (Mon) to 29 (Tue) 2023\, BEXCO\, Busan \nThe 4th Annual KGU Academic Conference (4th Annual Korea Earth Science Association Academic Conference) will be held August 28 (Mon) to 29 (Tue) at BEXCO\, Busan. The KGU Annual Academic Conference is the fourth academic conference jointly organized by six societies in the field of Earth Science (Korean Society for Space Science\, Korean Meteorological Society\, Korean Society for Earth Science\, Korean Council on Geological Sciences*\, Korean Astronomical Society etc.) Korean Oceanographic Society). \nWe ask for your interest and participation in this conference\, which will contribute greatly to the development of Korean geosciences.
URL:https://silantes.com/event/4th-kgu-annual-korea-earth-science-association-academic-conference/
CATEGORIES:International Events
END:VEVENT
END:VCALENDAR