BEGIN:VCALENDAR
VERSION:2.0
PRODID:-//Silantes - ECPv6.15.19//NONSGML v1.0//EN
CALSCALE:GREGORIAN
METHOD:PUBLISH
X-ORIGINAL-URL:https://silantes.com
X-WR-CALDESC:Events for Silantes
REFRESH-INTERVAL;VALUE=DURATION:PT1H
X-Robots-Tag:noindex
X-PUBLISHED-TTL:PT1H
BEGIN:VTIMEZONE
TZID:Europe/Berlin
BEGIN:DAYLIGHT
TZOFFSETFROM:+0100
TZOFFSETTO:+0200
TZNAME:CEST
DTSTART:20230326T010000
END:DAYLIGHT
BEGIN:STANDARD
TZOFFSETFROM:+0200
TZOFFSETTO:+0100
TZNAME:CET
DTSTART:20231029T010000
END:STANDARD
BEGIN:DAYLIGHT
TZOFFSETFROM:+0100
TZOFFSETTO:+0200
TZNAME:CEST
DTSTART:20240331T010000
END:DAYLIGHT
BEGIN:STANDARD
TZOFFSETFROM:+0200
TZOFFSETTO:+0100
TZNAME:CET
DTSTART:20241027T010000
END:STANDARD
BEGIN:DAYLIGHT
TZOFFSETFROM:+0100
TZOFFSETTO:+0200
TZNAME:CEST
DTSTART:20250330T010000
END:DAYLIGHT
BEGIN:STANDARD
TZOFFSETFROM:+0200
TZOFFSETTO:+0100
TZNAME:CET
DTSTART:20251026T010000
END:STANDARD
END:VTIMEZONE
BEGIN:VEVENT
DTSTART;TZID=Europe/Berlin:20240514T000000
DTEND;TZID=Europe/Berlin:20240517T235959
DTSTAMP:20260420T174430
CREATED:20240108T211937Z
LAST-MODIFIED:20240108T211937Z
UID:4051-1715644800-1715990399@silantes.com
SUMMARY:TIDES USA: Oligonucleotide & Peptide Therapeutics
DESCRIPTION:Each year\, the TIDES conference scientific agenda includes 150+ of the industry’s top scientists to present the latest science and industry updates across the entire spectrum from discovery\, preclinical\, clinical development through CMC\, Manufacturing and commercialization of therapeutics and vaccines for oligos\, peptides\, mRNA and genome editing products. Silantes will participate as an exhibitor and present a poster at the TIDES USA 2024 conference.
URL:https://silantes.com/event/tides-usa-oligonucleotide-peptide-therapeutics/
LOCATION:Hynes Convention Center\, 900 Boylston Street\, Boston\, MA\, 02115\, United States
CATEGORIES:International Events
END:VEVENT
BEGIN:VEVENT
DTSTART;TZID=Europe/Berlin:20240519T000000
DTEND;TZID=Europe/Berlin:20240522T235959
DTSTAMP:20260420T174430
CREATED:20240405T183237Z
LAST-MODIFIED:20240405T183237Z
UID:4752-1716076800-1716422399@silantes.com
SUMMARY:NMR Valtice
DESCRIPTION:NMR in Valtice is the annual meeting of the nuclear magnetic resonance community and serves as the principal international forum for reporting outstanding research and development on new NMR methods\, techniques and tools for research and application in science and technology.
URL:https://silantes.com/event/nmr-valtice/
LOCATION:Center of Excellence – National Wine Center\, Sobotni 1029\, Valtice\, 69142\, Czech Republic
CATEGORIES:European Events
END:VEVENT
BEGIN:VEVENT
DTSTART;TZID=Europe/Berlin:20240528T000000
DTEND;TZID=Europe/Berlin:20240531T235959
DTSTAMP:20260420T174430
CREATED:20240405T183716Z
LAST-MODIFIED:20240405T184259Z
UID:4754-1716854400-1717199999@silantes.com
SUMMARY:AILM 2024
DESCRIPTION:AILM2024 will focus on the development of isotopic labelling techniques and their application to the study of biomolecular structure and dynamics. \nConference sessions will cover developments in isotopic labelling strategies for NMR spectroscopy\, neutron science\, as well as methodological approaches\, such as co-expression\, segmental labelling\, specific labelling\, labelling with paramagnetic tags\, and sample production in vitro or in eukaryotic cells. The program will also include elegant examples of the application of these methods to challenging systems such as high molecular weight proteins and nucleic acids complexes or direct studies of biomacromolecules in cells or tissues. Read more on the event website
URL:https://silantes.com/event/ailm-2024/
LOCATION:IBS – EPN campus\, 71 Avenue des Martyrs\, Grenoble\, 38044\, France
CATEGORIES:European Events
END:VEVENT
END:VCALENDAR