BEGIN:VCALENDAR
VERSION:2.0
PRODID:-//Silantes - ECPv6.15.19//NONSGML v1.0//EN
CALSCALE:GREGORIAN
METHOD:PUBLISH
X-WR-CALNAME:Silantes
X-ORIGINAL-URL:https://silantes.com
X-WR-CALDESC:Events for Silantes
REFRESH-INTERVAL;VALUE=DURATION:PT1H
X-Robots-Tag:noindex
X-PUBLISHED-TTL:PT1H
BEGIN:VTIMEZONE
TZID:America/Detroit
BEGIN:DAYLIGHT
TZOFFSETFROM:-0500
TZOFFSETTO:-0400
TZNAME:EDT
DTSTART:20230312T070000
END:DAYLIGHT
BEGIN:STANDARD
TZOFFSETFROM:-0400
TZOFFSETTO:-0500
TZNAME:EST
DTSTART:20231105T060000
END:STANDARD
BEGIN:DAYLIGHT
TZOFFSETFROM:-0500
TZOFFSETTO:-0400
TZNAME:EDT
DTSTART:20240310T070000
END:DAYLIGHT
BEGIN:STANDARD
TZOFFSETFROM:-0400
TZOFFSETTO:-0500
TZNAME:EST
DTSTART:20241103T060000
END:STANDARD
BEGIN:DAYLIGHT
TZOFFSETFROM:-0500
TZOFFSETTO:-0400
TZNAME:EDT
DTSTART:20250309T070000
END:DAYLIGHT
BEGIN:STANDARD
TZOFFSETFROM:-0400
TZOFFSETTO:-0500
TZNAME:EST
DTSTART:20251102T060000
END:STANDARD
END:VTIMEZONE
BEGIN:VTIMEZONE
TZID:Europe/Berlin
BEGIN:DAYLIGHT
TZOFFSETFROM:+0100
TZOFFSETTO:+0200
TZNAME:CEST
DTSTART:20230326T010000
END:DAYLIGHT
BEGIN:STANDARD
TZOFFSETFROM:+0200
TZOFFSETTO:+0100
TZNAME:CET
DTSTART:20231029T010000
END:STANDARD
BEGIN:DAYLIGHT
TZOFFSETFROM:+0100
TZOFFSETTO:+0200
TZNAME:CEST
DTSTART:20240331T010000
END:DAYLIGHT
BEGIN:STANDARD
TZOFFSETFROM:+0200
TZOFFSETTO:+0100
TZNAME:CET
DTSTART:20241027T010000
END:STANDARD
BEGIN:DAYLIGHT
TZOFFSETFROM:+0100
TZOFFSETTO:+0200
TZNAME:CEST
DTSTART:20250330T010000
END:DAYLIGHT
BEGIN:STANDARD
TZOFFSETFROM:+0200
TZOFFSETTO:+0100
TZNAME:CET
DTSTART:20251026T010000
END:STANDARD
END:VTIMEZONE
BEGIN:VEVENT
DTSTART;TZID=America/Detroit:20241005T000000
DTEND;TZID=America/Detroit:20241005T235959
DTSTAMP:20260425T122652
CREATED:20240731T145024Z
LAST-MODIFIED:20240731T145058Z
UID:5250-1728086400-1728172799@silantes.com
SUMMARY:CANMRDG 2024
DESCRIPTION:The annual CANMRDG meeting brings together industrial and academic scientists to discuss current developments in NMR. In recent years\, the group has expanded beyond the Chicago area to include the Great Plains and greater Midwest regions. Silantes is happy to be an official sponsor of the meeting. We will participate the meeting with delegates and a company table.
URL:https://silantes.com/event/canmrdg-2024/
LOCATION:Michigan State University\, Chemistry Building\, 578 South Shaw Lane\, East Lansing\, MI\, 48824\, United States
CATEGORIES:International Events
END:VEVENT
BEGIN:VEVENT
DTSTART;TZID=Europe/Berlin:20241020T000000
DTEND;TZID=Europe/Berlin:20241024T235959
DTSTAMP:20260425T122652
CREATED:20240405T190321Z
LAST-MODIFIED:20250109T112818Z
UID:4758-1729382400-1729814399@silantes.com
SUMMARY:World HUPO 2024 Dresden     
DESCRIPTION:The HUPO World Congress 2024 will provide a unique opportunity to present and discuss progress in the interdisciplinary field of proteome research from application of new technologies to advancement of biological knowledge\, global health and wellness in a variety of workshops\, sessions\, training courses and poster sessions. \nRead more on the event website.
URL:https://silantes.com/event/world-hupo-2024-dresden/
LOCATION:International Congress Center Dresden\, Ostra-Ufer 2\, Dresden\, 01067\, Germany
CATEGORIES:European Events
END:VEVENT
END:VCALENDAR